BEGIN:VCALENDAR
VERSION:2.0
PRODID:-//Kultur-Werkstatt - ECPv4.4.3//NONSGML v1.0//EN
CALSCALE:GREGORIAN
METHOD:PUBLISH
X-WR-CALNAME:Kultur-Werkstatt
X-ORIGINAL-URL:https://www.kultur-werkstatt.ch
X-WR-CALDESC:Events for Kultur-Werkstatt
BEGIN:VEVENT
DTSTART;TZID=Europe/Zurich:20170407T200000
DTEND;TZID=Europe/Zurich:20170407T220000
DTSTAMP:20260422T022224
CREATED:20170303T200827Z
LAST-MODIFIED:20170311T161013Z
UID:6860-1491595200-1491602400@www.kultur-werkstatt.ch
SUMMARY:TanzNatürlich
DESCRIPTION:TanzNatürlich\n\nmit Simone Gantner & Patrick Hofmann\n\nGenauso wie es in jedem Moment aus Dir heraus tanzen will. Bewusst und neugierig den Impulsen Deines Körpers folgen. Wahr-nehmen was ist und all das in Bewegung bringen. So entsteht Dein Tanz\, ganz natürlich. Für alle die Lust haben sich selbst und dem Leben tiefer zu begegnen. Kontakt: Simone: www.natur-ritual.ch oder Patrick: www.zurmitte.ch\n\n\nKontakt: Simone: www.natur-ritual.ch oder Patrick: www.zurmitte.ch  \n\n \n\nkeine Vorkenntnisse nötig \nBequeme Kleider Schichtprinzip\, Barfuss\, Socken oder leichte Tanzschuhe\nim Anschluss gemütliches Ausklingenlassen im Bistro   \n\n \n\nFreiTanz am Freitag\n5Rhythmen® / Barfuss-Disco / SufiTanz /\ntanz.frei / TanzNatürlich / Trance Tanz
URL:https://www.kultur-werkstatt.ch/event/6860/2017-04-07/
LOCATION: Kultur Werkstatt\, Wil\, SG\, 9500\, Schweiz
CATEGORIES:Veranstaltungen
END:VEVENT
END:VCALENDAR