BEGIN:VCALENDAR
VERSION:2.0
PRODID:-//Kultur-Werkstatt - ECPv4.4.3//NONSGML v1.0//EN
CALSCALE:GREGORIAN
METHOD:PUBLISH
X-WR-CALNAME:Kultur-Werkstatt
X-ORIGINAL-URL:https://www.kultur-werkstatt.ch
X-WR-CALDESC:Events for Kultur-Werkstatt
BEGIN:VEVENT
DTSTART;TZID=Europe/Zurich:20240304T150000
DTEND;TZID=Europe/Zurich:20240304T160000
DTSTAMP:20260422T020423
CREATED:20170303T204019Z
LAST-MODIFIED:20170303T204019Z
UID:25709-1709564400-1709568000@www.kultur-werkstatt.ch
SUMMARY:Atelier Impuls
DESCRIPTION:Atelier Impuls\nModerntanz\, Gymnastik\, Rhythmik\, Kindertanz\, Jazztanz\nmit Irène Blum 071 911 82 89
URL:https://www.kultur-werkstatt.ch/event/atelier-impuls/2024-03-04/
LOCATION: Kultur Werkstatt\, Wil\, SG\, 9500\, Schweiz
CATEGORIES:Fortlaufende Kurse
END:VEVENT
END:VCALENDAR