BEGIN:VCALENDAR
VERSION:2.0
PRODID:-//Kultur-Werkstatt - ECPv4.4.3//NONSGML v1.0//EN
CALSCALE:GREGORIAN
METHOD:PUBLISH
X-WR-CALNAME:Kultur-Werkstatt
X-ORIGINAL-URL:https://www.kultur-werkstatt.ch
X-WR-CALDESC:Events for Kultur-Werkstatt
BEGIN:VEVENT
DTSTART;TZID=Europe/Zurich:20261102T150000
DTEND;TZID=Europe/Zurich:20261102T160000
DTSTAMP:20260421T152410
CREATED:20170303T204019Z
LAST-MODIFIED:20170303T204019Z
UID:28758-1793631600-1793635200@www.kultur-werkstatt.ch
SUMMARY:Atelier Impuls
DESCRIPTION:Atelier Impuls\nModerntanz\, Gymnastik\, Rhythmik\, Kindertanz\, Jazztanz\nmit Irène Blum 071 911 82 89
URL:https://www.kultur-werkstatt.ch/event/atelier-impuls/2026-11-02/
LOCATION: Kultur Werkstatt\, Wil\, SG\, 9500\, Schweiz
CATEGORIES:Fortlaufende Kurse
END:VEVENT
END:VCALENDAR