BEGIN:VCALENDAR
VERSION:2.0
PRODID:-//Kultur-Werkstatt - ECPv4.4.3//NONSGML v1.0//EN
CALSCALE:GREGORIAN
METHOD:PUBLISH
X-WR-CALNAME:Kultur-Werkstatt
X-ORIGINAL-URL:https://www.kultur-werkstatt.ch
X-WR-CALDESC:Events for Kultur-Werkstatt
BEGIN:VEVENT
DTSTART;TZID=Europe/Zurich:20251211T180000
DTEND;TZID=Europe/Zurich:20251211T203000
DTSTAMP:20260424T145211
CREATED:20251104T191659Z
LAST-MODIFIED:20251104T193321Z
UID:29568-1765476000-1765485000@www.kultur-werkstatt.ch
SUMMARY:Breathwork - Emotional Release
DESCRIPTION:mit Markus Neff\n\nDer Atem – als Brücke zwischen Körper\, Geist und Seele.\n\nBreathwork ist eine gezielte Atemtechnik\, die Körper und Geist in einen intensiven\, heilsamen Zustand führt. Alte Spannungen können sich lösen\, Emotionen dürfen fließen\, und ein tiefer Kontakt mit dir selbst wird möglich. In der Gruppe entsteht ein einzigartiger Resonanzraum – getragen durch die kollektive Atemenergie\, Musikkraft und persönliches Erleben.\n\nBreathwork-Gruppensessions bieten dir die Möglichkeit\, dich tief mit dir selbst zu verbinden – und gleichzeitig in der Gruppe gehalten und begleitet zu werden.\n\nDas kann Breathwork für dich bewirken\n\n \t\n\n \tStress und Anspannung abbauen\n \tEmotionale Blockaden lösen\n \tMehr Energie und Vitalität spüren\n \tBewusstsein erweitern & innere Balance finden\n\n\n\nLeitung: Markus Neff\nMentaltrainer/Hypnosetherapeut/Breathwork Coach\nMobil: 079-416 40 73\nAnmeldung: https://www.markus-neff.ch/breathwork/\n\nPreis: CHF 95 / Person\nPaketangebot: 3 Gruppenkurse für nur CHF 255 (statt CHF 285) – lohnt sich\, wenn du die Transformation über mehrere Sessions vertiefen möchtest.
URL:https://www.kultur-werkstatt.ch/event/breathwork-emotional-release/2025-12-11/
LOCATION:Churfirstenstrasse 5\, Wil\, SG\, 9500\, Schweiz
GEO:47.4615946;9.0446167
X-APPLE-STRUCTURED-LOCATION;VALUE=URI;X-ADDRESS=Churfirstenstrasse 5 Wil SG 9500 Schweiz;X-APPLE-RADIUS=500;X-TITLE=Churfirstenstrasse 5:geo:9.0446167,47.4615946
CATEGORIES:Veranstaltungen,Workshops, Seminare, Diverses, einmalige Veranstaltungen
ATTACH;FMTTYPE=image/jpeg:https://www.kultur-werkstatt.ch/wp-content/uploads/2025/11/2.jpg
ORGANIZER;CN="Markus%20Neff":MAILTO:markus@markus-neff.ch
END:VEVENT
END:VCALENDAR