BEGIN:VCALENDAR
VERSION:2.0
PRODID:-//Kultur-Werkstatt - ECPv4.4.3//NONSGML v1.0//EN
CALSCALE:GREGORIAN
METHOD:PUBLISH
X-WR-CALNAME:Kultur-Werkstatt
X-ORIGINAL-URL:https://www.kultur-werkstatt.ch
X-WR-CALDESC:Events for Kultur-Werkstatt
BEGIN:VEVENT
DTSTART;TZID=Europe/Zurich:20270125T121500
DTEND;TZID=Europe/Zurich:20270125T131500
DTSTAMP:20260421T191409
CREATED:20170303T204056Z
LAST-MODIFIED:20170303T204056Z
UID:29005-1800879300-1800882900@www.kultur-werkstatt.ch
SUMMARY:CANTIENCA® Powerprogramm
DESCRIPTION:CANTIENCA® - Powerprogramm\n\nmit Dana Leiteritz\n\n  \n\n \n\nKontakt:\n\n055 534 34 42 / 077 415 09 74\ndana@cantienica-ost.ch\nwww.cantienica-ost.ch
URL:https://www.kultur-werkstatt.ch/event/cantienca-powerprogramm/2027-01-25/
LOCATION:Kultur Werkstatt\, Wil\, SG\, 9500\, Schweiz
CATEGORIES:Fortlaufende Kurse
END:VEVENT
END:VCALENDAR