BEGIN:VCALENDAR
VERSION:2.0
PRODID:-//Kultur-Werkstatt - ECPv4.4.3//NONSGML v1.0//EN
CALSCALE:GREGORIAN
METHOD:PUBLISH
X-WR-CALNAME:Kultur-Werkstatt
X-ORIGINAL-URL:https://www.kultur-werkstatt.ch
X-WR-CALDESC:Events for Kultur-Werkstatt
BEGIN:VEVENT
DTSTART;VALUE=DATE:20240308
DTEND;VALUE=DATE:20240310
DTSTAMP:20260422T045923
CREATED:20230203T084236Z
LAST-MODIFIED:20230328T153443Z
UID:26721-1709856000-1710115199@www.kultur-werkstatt.ch
SUMMARY:Einführungskurs Shiatsu
DESCRIPTION:mit Christian Saier\ndipl. Shiatsutherapeut; MBSR-Lehrer Trainer NADA-Ohrakupunktur\n\n\nKursinhalte\n\nGrundlegende Behandlungsprinzipien\n\n- Absichtslose Berührung\n- Gelöster Körpereinsatz\n- Behandeln aus der Körpermitte - Hara\n- Verbindung von beiden Händen\n- Shiatsu in verschiedenen Positionen\n- Mobilisierungstechniken\, Dehntechniken\, Rotationen\n\nUnterstützende Achtsamkeitsübungen aus verschiedenen Traditionen\n- Meditation\n- Qi Gong\n- Yoga\n- Bodyscan\nZielgruppe\nInteressierte an Themen von Berührung\, Bewegung\, Körperarbeit\nDauer\n3 Tage jeweils von 9:00 – 17:00 Uhr\n18 Unterrichtsstunden à 60 min\nTermine\n19. – 21. April 2023\nAnmeldung\nChristian Saier\, info@shiatsu-bewegt.net\nInfos\nwww.shiatsu-bewegt.net\nKurskosten\nFr. 450.-
URL:https://www.kultur-werkstatt.ch/event/einfuehrungskurs-shiatsu/
LOCATION: Kultur Werkstatt\, Wil\, SG\, 9500\, Schweiz
CATEGORIES:Veranstaltungen,Workshops, Seminare, Diverses, einmalige Veranstaltungen
ATTACH;FMTTYPE=image/jpeg:https://www.kultur-werkstatt.ch/wp-content/uploads/2023/02/Raum-Behandlungsplatz.jpg
ORGANIZER;CN="Christian%20Saier":MAILTO:info@shiatsu-bewegt.net
END:VEVENT
END:VCALENDAR