BEGIN:VCALENDAR
VERSION:2.0
PRODID:-//Kultur-Werkstatt - ECPv4.4.3//NONSGML v1.0//EN
CALSCALE:GREGORIAN
METHOD:PUBLISH
X-WR-CALNAME:Kultur-Werkstatt
X-ORIGINAL-URL:https://www.kultur-werkstatt.ch
X-WR-CALDESC:Events for Kultur-Werkstatt
BEGIN:VEVENT
DTSTART;TZID=Europe/Zurich:20270211T164500
DTEND;TZID=Europe/Zurich:20270211T180000
DTSTAMP:20260421T171543
CREATED:20170312T182256Z
LAST-MODIFIED:20170312T182256Z
UID:29057-1802364300-1802368800@www.kultur-werkstatt.ch
SUMMARY:Feldenkrais
DESCRIPTION:Feldenkrais\n\nmit Susanne Häfelin\n\n \n\nKontakt:\n071 977 22 10/ susanne.haefelin@bluewin.ch\nFeldenkrais in Wil - www.beweglich-mit-feldenkrais.ch
URL:https://www.kultur-werkstatt.ch/event/feldenkrais-2/2027-02-11/
LOCATION: Kultur Werkstatt\, Wil\, SG\, 9500\, Schweiz
CATEGORIES:Fortlaufende Kurse
END:VEVENT
END:VCALENDAR