BEGIN:VCALENDAR
VERSION:2.0
PRODID:-//Kultur-Werkstatt - ECPv4.4.3//NONSGML v1.0//EN
CALSCALE:GREGORIAN
METHOD:PUBLISH
X-WR-CALNAME:Kultur-Werkstatt
X-ORIGINAL-URL:https://www.kultur-werkstatt.ch
X-WR-CALDESC:Events for Kultur-Werkstatt
BEGIN:VEVENT
DTSTART;TZID=Europe/Zurich:20220826T190000
DTEND;TZID=Europe/Zurich:20220826T220000
DTSTAMP:20260422T083835
CREATED:20220816T201515Z
LAST-MODIFIED:20220816T201515Z
UID:26184-1661540400-1661551200@www.kultur-werkstatt.ch
SUMMARY:Im Dialog mit der geistigen Welt
DESCRIPTION:mit Gabriele Gold-Zettler\, Anna Schaffner\, Carmela Haas\n\nEin medialer Abend mit Schwerpunkt Trancespeaking\n\nViele Fragen beschäftigen uns immer wieder\, sei es zum aktuellen Zeitgeschehen\, zu allgemeinen Themen des Menschseins und ganz persönliche Fragen. Die Medien Anni Schaffner und Carmela Haas lassen die geistige Welt dazu sprechen und stellen ihre Arbeit vor. Die systemisch-therapeutische Beraterin Gabriele Gold-Zettler stellt Möglichkeiten vor wie Informationen aus der geistigen Welt für jeden Einzelnen unterschiedliche Bedeutungszuschreibung und Hilfe sein können. Durch Gespräche findet Austausch statt\, der bereichert und weiterhilft in der Schule des Lebens.\n\nDaten und Zeiten\nFreitag\, 26. August 2022\, 19:00 – 22:00 Uhr\, Türöffnung ab 18.30 Uhr\nKosten: freiwillige Kollekte\n\nKontaktdaten:\nGabriele Gold-Zettler: gabrielezettler@web.de\nAnna Schaffner: schaffner-glor@bluewin.ch\nCarmela Haas: hass.c.1@icloud.com
URL:https://www.kultur-werkstatt.ch/event/im-dialog-mit-der-geistigen-welt/
LOCATION:Kultur Werkstatt\, Wil\, SG\, 9500\, Schweiz
CATEGORIES:Veranstaltungen,Workshops, Seminare, Diverses, einmalige Veranstaltungen
END:VEVENT
END:VCALENDAR