BEGIN:VCALENDAR
VERSION:2.0
PRODID:-//Kultur-Werkstatt - ECPv4.4.3//NONSGML v1.0//EN
CALSCALE:GREGORIAN
METHOD:PUBLISH
X-WR-CALNAME:Kultur-Werkstatt
X-ORIGINAL-URL:https://www.kultur-werkstatt.ch
X-WR-CALDESC:Events for Kultur-Werkstatt
BEGIN:VEVENT
DTSTART;TZID=Europe/Zurich:20171008T090000
DTEND;TZID=Europe/Zurich:20171008T170000
DTSTAMP:20260424T153655
CREATED:20170921T175249Z
LAST-MODIFIED:20170921T175515Z
UID:16504-1507453200-1507482000@www.kultur-werkstatt.ch
SUMMARY:Intuitives Familienstellen mit Ho`oponopono
DESCRIPTION:Intuitives Familienstellen lässt uns im Bewusstsein\, dass alles miteinander verbunden ist\, jede Form von Systemen (Familien\, Beziehungen\, Beruf etc.) aufstellen. In liebevoller Betrachtung können wir so unsere Systeme in einer anderen Sichtweise wahrnehmen und mit Hilfe von Ho`oponopono wieder in Einklang bringen. \n\nDiese wertvolle Arbeit erfüllt mich immer wieder mit tiefer Dankbarkeit. In Achtsamkeit begegnen wir dem was geheilt werden will. Liebevoll verbinden wir\, dass was wir im Aussen als getrennt wahrnehmen.\n\nWenn du auch ein Thema hast\, das du gerne genauer betrachten möchtest\, hast du hier eine Möglichkeit\, die dir hilft\, die tiefe Wahrheit von allen Beteiligten zu ergründen.\n\nEs besteht die Möglichkeit als Aufsteller (jemand der sein Thema aufstellen lässt) oder als Stellvertreter (jemand der einfach mal mitmachen und fühlen will\, wie es ist\, in die Rollen "Anderer" zu stehen) teilzunehmen.\n\nFamilienstellen ist so kraftvoll\, dass es bei allen Beteiligten Blockaden löst und Klarheit bringt.
URL:https://www.kultur-werkstatt.ch/event/intuitives-familienstellen-mit-hooponopono/
LOCATION:Churfirstenstrasse 5\, Wil\, SG\, 9500\, Schweiz
GEO:47.4615946;9.0446167
X-APPLE-STRUCTURED-LOCATION;VALUE=URI;X-ADDRESS=Churfirstenstrasse 5 Wil SG 9500 Schweiz;X-APPLE-RADIUS=500;X-TITLE=Churfirstenstrasse 5:geo:9.0446167,47.4615946
CATEGORIES:Veranstaltungen,Workshops, Seminare, Diverses, einmalige Veranstaltungen
ORGANIZER;CN="Sonja%20Egger":MAILTO:kontakt@sonja.egger.ch
END:VEVENT
END:VCALENDAR