BEGIN:VCALENDAR
VERSION:2.0
PRODID:-//Kultur-Werkstatt - ECPv4.4.3//NONSGML v1.0//EN
CALSCALE:GREGORIAN
METHOD:PUBLISH
X-WR-CALNAME:Kultur-Werkstatt
X-ORIGINAL-URL:https://www.kultur-werkstatt.ch
X-WR-CALDESC:Events for Kultur-Werkstatt
BEGIN:VEVENT
DTSTART;TZID=Europe/Zurich:20231025T171500
DTEND;TZID=Europe/Zurich:20231025T181500
DTSTAMP:20260421T201917
CREATED:20170312T182923Z
LAST-MODIFIED:20170312T182923Z
UID:25373-1698254100-1698257700@www.kultur-werkstatt.ch
SUMMARY:Qi Gong
DESCRIPTION:Qi Gong\nmit Marianne Monstein\n071 911 47 37 / www.dreimonde.ch
URL:https://www.kultur-werkstatt.ch/event/qi-gong-2/2023-10-25/
LOCATION: Kultur Werkstatt\, Wil\, SG\, 9500\, Schweiz
CATEGORIES:Fortlaufende Kurse
END:VEVENT
END:VCALENDAR