BEGIN:VCALENDAR
VERSION:2.0
PRODID:-//Kultur-Werkstatt - ECPv4.4.3//NONSGML v1.0//EN
CALSCALE:GREGORIAN
METHOD:PUBLISH
X-WR-CALNAME:Kultur-Werkstatt
X-ORIGINAL-URL:https://www.kultur-werkstatt.ch
X-WR-CALDESC:Events for Kultur-Werkstatt
BEGIN:VEVENT
DTSTART;TZID=Europe/Zurich:20171020T200000
DTEND;TZID=Europe/Zurich:20171020T220000
DTSTAMP:20260424T195052
CREATED:20170823T172200Z
LAST-MODIFIED:20170823T172210Z
UID:15853-1508529600-1508536800@www.kultur-werkstatt.ch
SUMMARY:Sternum LifeArt
DESCRIPTION:FreiTanz am Freitag: Sternum LifeArt mit Irène Kraus\n\nSich als Paar im Tanz erforschen und experimentieren zum Thema: Halten und Loslassen. Neue Beziehungs­qualitäten erschliessen und sich miteinander darüber freuen. Für alle Bewegungs­freu­digen\, die sich als Paar verstehen. Es sind weder beim Tanzen noch beim Malen Kenntnisse erforderlich. Was zählt ist die Freude dem Körper durch Tanzen und Malen eine Sprache zu geben.\n\nKeine Vorkenntnisse nötig\, bequeme Kleider Schichtprinzip\, Barfuss\, Socken oder leichte Tanzschuhe im Anschluss gemütliches Ausklingenlassen im Bistro
URL:https://www.kultur-werkstatt.ch/event/sternum-lifeart/
LOCATION:Churfirstenstrasse 5\, Wil\, SG\, 9500\, Schweiz
GEO:47.4615946;9.0446167
X-APPLE-STRUCTURED-LOCATION;VALUE=URI;X-ADDRESS=Churfirstenstrasse 5 Wil SG 9500 Schweiz;X-APPLE-RADIUS=500;X-TITLE=Churfirstenstrasse 5:geo:9.0446167,47.4615946
CATEGORIES:Veranstaltungen
ATTACH;FMTTYPE=image/jpeg:https://www.kultur-werkstatt.ch/wp-content/uploads/2017/03/Logo-FreiTanz.jpg
END:VEVENT
END:VCALENDAR