BEGIN:VCALENDAR
VERSION:2.0
PRODID:-//Kultur-Werkstatt - ECPv4.4.3//NONSGML v1.0//EN
CALSCALE:GREGORIAN
METHOD:PUBLISH
X-WR-CALNAME:Kultur-Werkstatt
X-ORIGINAL-URL:https://www.kultur-werkstatt.ch
X-WR-CALDESC:Events for Kultur-Werkstatt
BEGIN:VEVENT
DTSTART;TZID=Europe/Zurich:20171006T200000
DTEND;TZID=Europe/Zurich:20171006T220000
DTSTAMP:20260424T132946
CREATED:20170823T171144Z
LAST-MODIFIED:20170823T175701Z
UID:15845-1507320000-1507327200@www.kultur-werkstatt.ch
SUMMARY:SufiTanz
DESCRIPTION:FreiTanz am Freitag: SufiTanz mit Luzia Tanner\n\nWenn die Welt sich um Dich dreht - und sich dabei das Wesentliche in Dir zeigt. Die angeleitete Sufi-Bewegungs­meditation der Himmelsrichtungen zentriert und verbindet Ebenen von Körper\, Emotionen\, Geist und Seele. Inspiriert durch diese mystische Erfahrung\, findet Dich der Tanz\, frei und lebendig.\n\nKeine Vorkenntnisse nötig\, bequeme Kleider Schichtprinzip\, Barfuss\, Socken oder leichte Tanzschuhe im Anschluss gemütliches Ausklingenlassen im Bistro
URL:https://www.kultur-werkstatt.ch/event/sufitanz-2/
LOCATION:Churfirstenstrasse 5\, Wil\, SG\, 9500\, Schweiz
GEO:47.4615946;9.0446167
X-APPLE-STRUCTURED-LOCATION;VALUE=URI;X-ADDRESS=Churfirstenstrasse 5 Wil SG 9500 Schweiz;X-APPLE-RADIUS=500;X-TITLE=Churfirstenstrasse 5:geo:9.0446167,47.4615946
CATEGORIES:Veranstaltungen
ATTACH;FMTTYPE=image/jpeg:https://www.kultur-werkstatt.ch/wp-content/uploads/2017/03/Logo-FreiTanz.jpg
END:VEVENT
END:VCALENDAR