BEGIN:VCALENDAR
VERSION:2.0
PRODID:-//Kultur-Werkstatt - ECPv4.4.3//NONSGML v1.0//EN
CALSCALE:GREGORIAN
METHOD:PUBLISH
X-WR-CALNAME:Kultur-Werkstatt
X-ORIGINAL-URL:https://www.kultur-werkstatt.ch
X-WR-CALDESC:Events for Kultur-Werkstatt
BEGIN:VEVENT
DTSTART;TZID=Europe/Zurich:20170303T080000
DTEND;TZID=Europe/Zurich:20170303T170000
DTSTAMP:20260421T230701
CREATED:20170303T203443Z
LAST-MODIFIED:20170314T133758Z
UID:6919-1488528000-1488560400@www.kultur-werkstatt.ch
SUMMARY:SufiTanz
DESCRIPTION:SufiTanz\n\nmit Luzia Tanner\n\nWenn die Welt sich um Dich dreht - und sich dabei das Wesentliche in Dir zeigt.\nDie angeleitete Sufi-Bewegungsmeditation der Himmelsrichtungen zentriert und verbindet Ebenen von Körper\, Emotionen\, Geist und Seele. \nInspiriert durch diese mystische Erfahrung\, findet Dich der Tanz\, frei und lebendig.\n\n\nKontakt: luzia.tanner@bluewin.ch oder www.bewegt-mit-lightness.ch\n\n \n\nkeine Vorkenntnisse nötig \nBequeme Kleider Schichtprinzip\, Barfuss\, Socken oder leichte Tanzschuhe\nim Anschluss gemütliches Ausklingenlassen im Bistro   \n\n \n\nFreiTanz am Freitag\n5Rhythmen® / Barfuss-Disco / SufiTanz /\ntanz.frei / TanzNatürlich / Trance Tanz
URL:https://www.kultur-werkstatt.ch/event/sufitanz/
CATEGORIES:Veranstaltungen
ATTACH;FMTTYPE=image/jpeg:https://www.kultur-werkstatt.ch/wp-content/uploads/2017/03/IMG_6919-2.jpg
END:VEVENT
END:VCALENDAR