BEGIN:VCALENDAR
VERSION:2.0
PRODID:-//Kultur-Werkstatt - ECPv4.4.3//NONSGML v1.0//EN
CALSCALE:GREGORIAN
METHOD:PUBLISH
X-WR-CALNAME:Kultur-Werkstatt
X-ORIGINAL-URL:https://www.kultur-werkstatt.ch
X-WR-CALDESC:Events for Kultur-Werkstatt
BEGIN:VEVENT
DTSTART;TZID=Europe/Zurich:20250527T190000
DTEND;TZID=Europe/Zurich:20250527T201500
DTSTAMP:20260422T130044
CREATED:20250417T113543Z
LAST-MODIFIED:20250417T113543Z
UID:29253-1748372400-1748376900@www.kultur-werkstatt.ch
SUMMARY:SURYASOUL® - when yoga becomes a dance of life - DANCE OF SOMA
DESCRIPTION:mit Julia und Tina\n\nSURYASOUL® - when yoga becomes a dance of life - DANCE OF SOMA\n\nSuryaSoul ist eine bewusste und lebendige Tanz- und Bewegungspraxis\, welche auf den Lehren der sieben Chakren\, den Philosophien des Tao und Integralen Yogas basiert. SuryaSoul Dance of Spirit gibt dir Raum für freies Tanzen. Während der Stunde werden Körpermudras als Anregung gegeben\, damit du deinen eigenen Tanz und auch den Tanz im Dialog mit der Gruppe entdecken und vertiefen kannst.\nSuryaSoul Dance of Spirit wird auch Tanzdichtung genannt\, die Poesie des Körpers. Entdecke die Magie in Dir und lasse zu Rhythmen und Melodien aus aller Welt deinen Körper\, Geist und deine Seele tanzen.\nWir freuen uns auf dich!\n\nDaten und Zeiten\nFr\, 16. Mai 2025 von 19.30 bis ca. 21. 00 Uhr\nKosten\nFr. 27.-\n\nAnmeldung/Infos:\njulia.lueber@gmx.ch\n\n 
URL:https://www.kultur-werkstatt.ch/event/suryasoul-when-yoga-becomes-a-dance-of-life-dance-of-soma/2025-05-27/
LOCATION:Kultur Werkstatt\, Wil\, SG\, 9500\, Schweiz
CATEGORIES:Veranstaltungen,Workshops, Seminare, Diverses, einmalige Veranstaltungen
ATTACH;FMTTYPE=image/png:https://www.kultur-werkstatt.ch/wp-content/uploads/2025/04/Flyer_Dance-of-Soma_Daten-2025-1-HJ.png
ORGANIZER;CN="Julia%20und%20Tina":MAILTO:julia.lueber@gmx.ch
END:VEVENT
END:VCALENDAR