BEGIN:VCALENDAR
VERSION:2.0
PRODID:-//Kultur-Werkstatt - ECPv4.4.3//NONSGML v1.0//EN
CALSCALE:GREGORIAN
METHOD:PUBLISH
X-WR-CALNAME:Kultur-Werkstatt
X-ORIGINAL-URL:https://www.kultur-werkstatt.ch
X-WR-CALDESC:Events for Kultur-Werkstatt
BEGIN:VEVENT
DTSTART;TZID=Europe/Zurich:20241115T190000
DTEND;TZID=Europe/Zurich:20241115T203000
DTSTAMP:20260422T094757
CREATED:20230820T195405Z
LAST-MODIFIED:20240917T200753Z
UID:27397-1731697200-1731702600@www.kultur-werkstatt.ch
SUMMARY:SURYASOUL® - when yoga becomes a dance of life
DESCRIPTION:mit Julia und Tina\n\nSURYASOUL® - when yoga becomes a dance of life\n\nSuryaSoul ist eine bewusste und lebendige Tanz- und Bewegungspraxis\, welche auf den Lehren der sieben Chakren\, den Philosophien des Tao und Integralen Yogas basiert. SuryaSoul Dance of Spirit gibt dir Raum für freies Tanzen. Während der Stunde werden Körpermudras als Anregung gegeben\, damit du deinen eigenen Tanz und auch den Tanz im Dialog mit der Gruppe entdecken und vertiefen kannst.\nSuryaSoul Dance of Spirit wird auch Tanzdichtung genannt\, die Poesie des Körpers. Entdecke die Magie in Dir und lasse zu Rhythmen und Melodien aus aller Welt deinen Körper\, Geist und deine Seele tanzen.\nWir freuen uns auf dich!\n\nDaten und Zeiten\nFr\, 15. November 2024 von 19.30 bis ca. 21. 00 Uhr\nKosten\nFreiwilliger Beitrag\n\nAnmeldung/Infos:\njulia.lueber@gmx.ch\n\n 
URL:https://www.kultur-werkstatt.ch/event/suryasoul-when-yoga-becomes-a-dance-of-life/
LOCATION: Kultur Werkstatt\, Wil\, SG\, 9500\, Schweiz
CATEGORIES:Veranstaltungen,Workshops, Seminare, Diverses, einmalige Veranstaltungen
ATTACH;FMTTYPE=image/jpeg:https://www.kultur-werkstatt.ch/wp-content/uploads/2023/08/Surya-Soul-Julia-Lüber-und-Tina.jpg
ORGANIZER;CN="Julia%20und%20Tina":MAILTO:julia.lueber@gmx.ch
END:VEVENT
END:VCALENDAR