BEGIN:VCALENDAR
VERSION:2.0
PRODID:-//Kultur-Werkstatt - ECPv4.4.3//NONSGML v1.0//EN
CALSCALE:GREGORIAN
METHOD:PUBLISH
X-WR-CALNAME:Kultur-Werkstatt
X-ORIGINAL-URL:https://www.kultur-werkstatt.ch
X-WR-CALDESC:Events for Kultur-Werkstatt
BEGIN:VEVENT
DTSTART;TZID=Europe/Zurich:20170310T200000
DTEND;TZID=Europe/Zurich:20170310T220000
DTSTAMP:20260421T231246
CREATED:20170303T195932Z
LAST-MODIFIED:20170314T133808Z
UID:6847-1489176000-1489183200@www.kultur-werkstatt.ch
SUMMARY:tanz.frei
DESCRIPTION:tanz.frei\n\n\nmit René Schori\n\nDie beste Musik aus aller Welt trägt Dich weiter\, Du lässt Dich tanzen\, lässt Dich frei bewegen... sanft\, wild\, mystisch\, hüpfend\, weich\, stampfend\, chaotisch\, liebend … ganz für Dich oder in Begegnung\, wie Dir wohl ist.\n\n\nKontakt: www.tanzfrei.ch \n\n \n\nkeine Vorkenntnisse nötig \nBequeme Kleider Schichtprinzip\, Barfuss\, Socken oder leichte Tanzschuhe\nim Anschluss gemütliches Ausklingenlassen im Bistro   \n\n \n\nFreiTanz am Freitag\n5Rhythmen® / Barfuss-Disco / SufiTanz /\ntanz.frei / TanzNatürlich / Trance Tanz
URL:https://www.kultur-werkstatt.ch/event/tanz-frei/2017-03-10/
LOCATION: Kultur Werkstatt\, Wil\, SG\, 9500\, Schweiz
CATEGORIES:Veranstaltungen
ATTACH;FMTTYPE=image/jpeg:https://www.kultur-werkstatt.ch/wp-content/uploads/2017/03/IMG_6919-2.jpg
END:VEVENT
END:VCALENDAR