BEGIN:VCALENDAR
VERSION:2.0
PRODID:-//Kultur-Werkstatt - ECPv4.4.3//NONSGML v1.0//EN
CALSCALE:GREGORIAN
METHOD:PUBLISH
X-WR-CALNAME:Kultur-Werkstatt
X-ORIGINAL-URL:https://www.kultur-werkstatt.ch
X-WR-CALDESC:Events for Kultur-Werkstatt
BEGIN:VEVENT
DTSTART;TZID=Europe/Zurich:20180202T200000
DTEND;TZID=Europe/Zurich:20180202T220000
DTSTAMP:20260425T172953
CREATED:20171229T093602Z
LAST-MODIFIED:20180109T201335Z
UID:17077-1517601600-1517608800@www.kultur-werkstatt.ch
SUMMARY:Ecstatic Dance
DESCRIPTION:FreiTanz am Freitag: Ecstatic Dance St. Gallen meets Kultur-Werkstatt\n\nEcstatic Dance ist eine weltweite Bewegung\, die eine offene und bewusste Tanzkultur pflegt. Mitmachen ist ganz einfach: Bewege dich wie du willst\, verzichte auf Worte und respektiere dich selbst und die andern. Gemeinsamer Beginn und Schluss bilden den Rahmen. Dazwischen tanzen wir zu Musik aus aller Welt von unseren DJ’s. Bewegungsfreudige Menschen allen Alters sind herzlich willkommen.\n\nKeine Vorkenntnisse nötig. bequeme Kleider Schichtprinzip\, Barfuss\, Socken oder leichte Tanzschuhe im Anschluss gemütliches Ausklingenlassen im Bistro
URL:https://www.kultur-werkstatt.ch/event/tanznatuerlich-3-2-2/
LOCATION:Churfirstenstrasse 5\, Wil\, SG\, 9500\, Schweiz
GEO:47.4615946;9.0446167
X-APPLE-STRUCTURED-LOCATION;VALUE=URI;X-ADDRESS=Churfirstenstrasse 5 Wil SG 9500 Schweiz;X-APPLE-RADIUS=500;X-TITLE=Churfirstenstrasse 5:geo:9.0446167,47.4615946
CATEGORIES:Veranstaltungen
ATTACH;FMTTYPE=image/jpeg:https://www.kultur-werkstatt.ch/wp-content/uploads/2017/03/Logo-FreiTanz.jpg
END:VEVENT
END:VCALENDAR