BEGIN:VCALENDAR
VERSION:2.0
PRODID:-//Kultur-Werkstatt - ECPv4.4.3//NONSGML v1.0//EN
CALSCALE:GREGORIAN
METHOD:PUBLISH
X-WR-CALNAME:Kultur-Werkstatt
X-ORIGINAL-URL:https://www.kultur-werkstatt.ch
X-WR-CALDESC:Events for Kultur-Werkstatt
BEGIN:VEVENT
DTSTART;TZID=Europe/Zurich:20180112T200000
DTEND;TZID=Europe/Zurich:20180112T220000
DTSTAMP:20260425T124713
CREATED:20171229T084652Z
LAST-MODIFIED:20171229T084703Z
UID:17064-1515787200-1515794400@www.kultur-werkstatt.ch
SUMMARY:TanzNatürlich
DESCRIPTION:FreiTanz am Freitag: TanzNatürlich mit Simone Gantner und Patrick Hofmann\n\nGenauso wie es in jedem Moment aus Dir heraus tanzen will. Bewusst und neugierig den Impulsen Deines Körpers folgen. Wahr-nehmen was ist und all das in Bewegung bringen. So entsteht Dein Tanz\, ganz natürlich. Für alle die Lust haben sich selbst und dem Leben tiefer zu begegnen. \n\nKeine Vorkenntnisse nötig\, bequeme Kleider Schichtprinzip\, Barfuss\, Socken oder leichte Tanzschuhe im Anschluss gemütliches Ausklingenlassen im Bistro
URL:https://www.kultur-werkstatt.ch/event/tanznatuerlich-3-2/
LOCATION:Churfirstenstrasse 5\, Wil\, SG\, 9500\, Schweiz
GEO:47.4615946;9.0446167
X-APPLE-STRUCTURED-LOCATION;VALUE=URI;X-ADDRESS=Churfirstenstrasse 5 Wil SG 9500 Schweiz;X-APPLE-RADIUS=500;X-TITLE=Churfirstenstrasse 5:geo:9.0446167,47.4615946
CATEGORIES:Veranstaltungen
ATTACH;FMTTYPE=image/jpeg:https://www.kultur-werkstatt.ch/wp-content/uploads/2017/03/Logo-FreiTanz.jpg
END:VEVENT
END:VCALENDAR