BEGIN:VCALENDAR
VERSION:2.0
PRODID:-//Kultur-Werkstatt - ECPv4.4.3//NONSGML v1.0//EN
CALSCALE:GREGORIAN
METHOD:PUBLISH
X-WR-CALNAME:Kultur-Werkstatt
X-ORIGINAL-URL:https://www.kultur-werkstatt.ch
X-WR-CALDESC:Events for Kultur-Werkstatt
BEGIN:VEVENT
DTSTART;VALUE=DATE:20230518
DTEND;VALUE=DATE:20230520
DTSTAMP:20260422T021223
CREATED:20230419T172702Z
LAST-MODIFIED:20230419T173158Z
UID:27005-1684368000-1684627199@www.kultur-werkstatt.ch
SUMMARY:Tisch und Tanz
DESCRIPTION:mit Nadja Schiavo und Silvia Hummel\n\nTisch und Tanz - Mosaik meets Modern Jazz Dance\n\nGemeinsam möchten wir dich zu einer kreativen Auszeit einladen…\nNadja Schiavo\, Mosaikhandwerkerin aus Lichtensteig und Silvia Hummel\, Tanz- und Theaterpädagogin aus Davos\, bieten dir drei Tage voller Kreativität und Bewegung an.\nDu gestaltest einen Tisch in der direkten Mosaiktechnik. Es besteht die Möglichkeit einen Betongartentisch mit 60 cm Ø und einem Mosaikmittelpunkt 35 cm Ø zu gestalten\, oder einen Beistelltisch (Gladom IKEA) mit 45 cm Durchmesser. Die Betonplatte wird speziell für den Kurs hergestellt und mit CHF 60.00 zusätzlich verrechnet.\nDir stehen viele verschiedene Farben und Materialien zur Verfügung\, um deine persönliche Gestaltung umzusetzen. Du erlernst die korrekte Handhabung der Werkzeuge und Materialien\, das ist ein wichtiger Bestandteil des Kurses.\nIn tänzerischen Bewegungssequenzen findest du den Ausgleich zur eher statischen Arbeit am Mosaik. Du erlernst einfache Bewegungsfolgen aus dem Modern Jazz Dance. In freieren Teilen entdeckst du deinen eigenen Bewegungsschatz\, der zu ausdrucksstarker und kraftvoller Musik zum Ausdruck kommt. Es braucht keine Vorkenntnisse.\n\nAnmeldung/Infos:\nNadja Schiavo\, nschiavo@thurweb.ch\n\nKurszeiten:\n9.00 Uhr bis ca. 18.30 Uhr\n\n\nKosten:\nFr. 480.-\n\nVerpflegung:\nDas Mittagessen nimmst du selber mit\, es hat eine Mikrowelle zur Nutzung  vor Ort oder Einkaufsmöglichkeiten in der Nähe.\nGetränke und Snacks stehen für dich bereit und sind offeriert.\n\nFragen:\nGerne gebe ich telefonisch Auskunft: 079 542 14 96\n\n 
URL:https://www.kultur-werkstatt.ch/event/tisch-und-tanz/
LOCATION:Churfirstenstrasse 5\, Wil\, SG\, 9500\, Schweiz
GEO:47.4615946;9.0446167
X-APPLE-STRUCTURED-LOCATION;VALUE=URI;X-ADDRESS=Churfirstenstrasse 5 Wil SG 9500 Schweiz;X-APPLE-RADIUS=500;X-TITLE=Churfirstenstrasse 5:geo:9.0446167,47.4615946
CATEGORIES:Veranstaltungen,Workshops, Seminare, Diverses, einmalige Veranstaltungen
ATTACH;FMTTYPE=image/jpeg:https://www.kultur-werkstatt.ch/wp-content/uploads/2023/04/Ikeatisch.jpg
ORGANIZER;CN="Nadja%20Schiavo":MAILTO:nschiavo@thurweb.ch
END:VEVENT
END:VCALENDAR