BEGIN:VCALENDAR
VERSION:2.0
PRODID:-//Kultur-Werkstatt - ECPv4.4.3//NONSGML v1.0//EN
CALSCALE:GREGORIAN
METHOD:PUBLISH
X-WR-CALNAME:Kultur-Werkstatt
X-ORIGINAL-URL:https://www.kultur-werkstatt.ch
X-WR-CALDESC:Events for Kultur-Werkstatt
BEGIN:VEVENT
DTSTART;VALUE=DATE:20231118
DTEND;VALUE=DATE:20231119
DTSTAMP:20260421T185736
CREATED:20230301T154102Z
LAST-MODIFIED:20230913T124528Z
UID:26856-1700265600-1700438399@www.kultur-werkstatt.ch
SUMMARY:Toneurythmiekurse 2023
DESCRIPTION:mit Sharon Karnieli (Eurythmie) und Liselotte Juon (Klavier)\n\nEurythmie machen\nEurythmie ist Meditation in Bewegung\, ist schöne Bewegung\, die von der atmenden Seele ausgeht. Sie ist das\, was der Mensch selber ist: Geist\, Seele und Leib\, die zusammenklingen.\n\nDaten und Themen\n18. und 19. März: Von Bach und Mozart\n17. und 18. Juni: Von Mozart und Beethoven\n16. und 17. September: Romantik\n18. und 19. November: Von Romantik bis zum 20. Jahrhundert\n\nZeiten\nSamstag 14 bis 17.30 Uhr\, Sonntag\, 9.30 bis 13 Uhr\n\nKosten\nFr. 190.- / Wochenende oder Fr. 720.- / alle Wochenenden\n\nAnmeldung/Infos\nSharon Karnieli\nMail: sharon.karnieli@posteo.de\nPhone: 052 720 31 23\nHomepage: www.praxis-heileurythmie.ch
URL:https://www.kultur-werkstatt.ch/event/toneurythmiekurse-2023-2-2/
LOCATION: Kultur Werkstatt\, Wil\, SG\, 9500\, Schweiz
CATEGORIES:Veranstaltungen,Workshops, Seminare, Diverses, einmalige Veranstaltungen
ATTACH;FMTTYPE=image/jpeg:https://www.kultur-werkstatt.ch/wp-content/uploads/2023/03/700px-Odilon_Redon_002.jpg
ORGANIZER;CN="Sharon%20Karnieli":MAILTO:sharon.karnieli@posteo.de
END:VEVENT
END:VCALENDAR