BEGIN:VCALENDAR
VERSION:2.0
PRODID:-//Kultur-Werkstatt - ECPv4.4.3//NONSGML v1.0//EN
CALSCALE:GREGORIAN
METHOD:PUBLISH
X-WR-CALNAME:Kultur-Werkstatt
X-ORIGINAL-URL:https://www.kultur-werkstatt.ch
X-WR-CALDESC:Events for Kultur-Werkstatt
BEGIN:VEVENT
DTSTART;TZID=Europe/Zurich:20180119T200000
DTEND;TZID=Europe/Zurich:20180119T220000
DTSTAMP:20260425T155820
CREATED:20171229T084939Z
LAST-MODIFIED:20171229T084939Z
UID:17066-1516392000-1516399200@www.kultur-werkstatt.ch
SUMMARY:Trance Tanz
DESCRIPTION:FreiTanz am Freitag: Trance Tanz mit Ingrid Maria Quinter\n\nBist du bereit für eine aussergewöhnliche Erfahrung? Tanzend zu sein mit Augenbinde\, eine Möglichkeit voll und ganz bei Dir zu sein\, ohne Bewertung auszuprobieren\, experimentieren\, den Raum erfahren\, in Kontakt zu gehen ohne zu sehen\, einfach zu fühlen\, zu spüren\, zu geniessen\, total frei zu sein. Eine Chance Türen zu öffnen und in neue Räume einzutauchen. WUNDERbares kann geschehen. \n\nKeine Vorkenntnisse nötig\, bequeme Kleider Schichtprinzip\, Barfuss\, Socken oder leichte Tanzschuhe im Anschluss gemütliches Ausklingenlassen im Bistro
URL:https://www.kultur-werkstatt.ch/event/trance-tanz-3-2/
LOCATION:Churfirstenstrasse 5\, Wil\, SG\, 9500\, Schweiz
GEO:47.4615946;9.0446167
X-APPLE-STRUCTURED-LOCATION;VALUE=URI;X-ADDRESS=Churfirstenstrasse 5 Wil SG 9500 Schweiz;X-APPLE-RADIUS=500;X-TITLE=Churfirstenstrasse 5:geo:9.0446167,47.4615946
CATEGORIES:Veranstaltungen
ATTACH;FMTTYPE=image/jpeg:https://www.kultur-werkstatt.ch/wp-content/uploads/2017/03/Logo-FreiTanz.jpg
END:VEVENT
END:VCALENDAR