BEGIN:VCALENDAR
VERSION:2.0
PRODID:-//Kultur-Werkstatt - ECPv4.4.3//NONSGML v1.0//EN
CALSCALE:GREGORIAN
METHOD:PUBLISH
X-WR-CALNAME:Kultur-Werkstatt
X-ORIGINAL-URL:https://www.kultur-werkstatt.ch
X-WR-CALDESC:Events for Kultur-Werkstatt
BEGIN:VEVENT
DTSTART;TZID=Europe/Zurich:20180114T170000
DTEND;TZID=Europe/Zurich:20180114T190000
DTSTAMP:20260425T155719
CREATED:20171229T092417Z
LAST-MODIFIED:20171229T092738Z
UID:17070-1515949200-1515956400@www.kultur-werkstatt.ch
SUMMARY:URBAN FREY JAZZ QUINTETT
DESCRIPTION:URBAN FREY JAZZ QUINTETT\n12 Konzerte 11 Städte\n\nDas neu formierte Bandprojekt des Schweizer Panflötenvirtuosen URBAN FREY begibt sich Musikalisch auf die Reise in die Welt des JAZZ UND FUSION.\n\nEigenkompositionen\, ausgewählte Interpretationen und Arrangements von Stücken des Great American Songbook bilden die kreativen Rahmenbedingungen für spontane und interaktive Improvisationen.\n\nDie einzigartige\, unkonventionelle Besetzung eines Jazzquintetts mit Panflöte in dieser Form ist sicherlich ein Alleinstellungsmerkmal und verspricht ein musikalisches Erlebnis fernab jeglichen Jazzklischees.\n\nTickets: Link 
URL:https://www.kultur-werkstatt.ch/event/urbanfrey/
LOCATION:Churfirstenstrasse 5\, Wil\, SG\, 9500\, Schweiz
GEO:47.4615946;9.0446167
X-APPLE-STRUCTURED-LOCATION;VALUE=URI;X-ADDRESS=Churfirstenstrasse 5 Wil SG 9500 Schweiz;X-APPLE-RADIUS=500;X-TITLE=Churfirstenstrasse 5:geo:9.0446167,47.4615946
CATEGORIES:Veranstaltungen
ATTACH;FMTTYPE=image/jpeg:https://www.kultur-werkstatt.ch/wp-content/uploads/2017/12/Pressefoto_Urban-Frey_Jazz-Quintett.jpg
ORGANIZER;CN="proPan%20Konzerte":MAILTO:info@urbanfrey.ch
END:VEVENT
END:VCALENDAR