BEGIN:VCALENDAR
VERSION:2.0
PRODID:-//Kultur-Werkstatt - ECPv4.4.3//NONSGML v1.0//EN
CALSCALE:GREGORIAN
METHOD:PUBLISH
X-WR-CALNAME:Kultur-Werkstatt
X-ORIGINAL-URL:https://www.kultur-werkstatt.ch
X-WR-CALDESC:Events for Kultur-Werkstatt
BEGIN:VEVENT
DTSTART;TZID=Europe/Zurich:20270302T100000
DTEND;TZID=Europe/Zurich:20270302T110000
DTSTAMP:20260421T171657
CREATED:20170312T182118Z
LAST-MODIFIED:20170312T182118Z
UID:29107-1803981600-1803985200@www.kultur-werkstatt.ch
SUMMARY:Yoga mit Gina Besio
DESCRIPTION:Yoga\nmit Gina Besio\n\n \n\nKontakt:\n076 446 05 11 / www.ginabesio.ch
URL:https://www.kultur-werkstatt.ch/event/yoga-mit-gina-besio/2027-03-02/
LOCATION:Kultur Werkstatt\, Wil\, SG\, 9500\, Schweiz
CATEGORIES:Fortlaufende Kurse
END:VEVENT
END:VCALENDAR