BEGIN:VCALENDAR
VERSION:2.0
PRODID:-//Kultur-Werkstatt - ECPv4.4.3//NONSGML v1.0//EN
CALSCALE:GREGORIAN
METHOD:PUBLISH
X-WR-CALNAME:Kultur-Werkstatt
X-ORIGINAL-URL:https://www.kultur-werkstatt.ch
X-WR-CALDESC:Events for Kultur-Werkstatt
BEGIN:VEVENT
DTSTART;TZID=Europe/Zurich:20170303T080000
DTEND;TZID=Europe/Zurich:20170303T170000
DTSTAMP:20260421T230702
CREATED:20170303T204151Z
LAST-MODIFIED:20170303T204151Z
UID:6934-1488528000-1488560400@www.kultur-werkstatt.ch
SUMMARY:Yoga
DESCRIPTION:Yoga\n(Hatha\, Kundalini\, Hormon)\nmit Gabriela Knaus-Heeb\n071 920 03 77 / gaby-knaus@bluewin.ch
URL:https://www.kultur-werkstatt.ch/event/yoga/
LOCATION:Kultur Werkstatt\, Wil\, SG\, 9500\, Schweiz
CATEGORIES:Fortlaufende Kurse
END:VEVENT
END:VCALENDAR